BEGIN:VCALENDAR
VERSION:2.0
PRODID:-//Racehelp - ECPv5.14.1//NONSGML v1.0//EN
CALSCALE:GREGORIAN
METHOD:PUBLISH
X-WR-CALNAME:Racehelp
X-ORIGINAL-URL:http://racehelp.ee
X-WR-CALDESC:Events for Racehelp
REFRESH-INTERVAL;VALUE=DURATION:PT1H
X-Robots-Tag:noindex
X-PUBLISHED-TTL:PT1H
BEGIN:VTIMEZONE
TZID:UTC
BEGIN:STANDARD
TZOFFSETFROM:+0000
TZOFFSETTO:+0000
TZNAME:UTC
DTSTART:20230101T000000
END:STANDARD
END:VTIMEZONE
BEGIN:VEVENT
DTSTART;TZID=UTC:20230902T080000
DTEND;TZID=UTC:20230903T200000
DTSTAMP:20260420T192649
CREATED:20230805T064605Z
LAST-MODIFIED:20230805T064605Z
UID:457-1693641600-1693771200@racehelp.ee
SUMMARY:Motoringraja EMV ja BMV etapp. Eesti ringrajasõit 90!
DESCRIPTION:
URL:http://racehelp.ee/event/motoringraja-emv-ja-bmv-etapp-eesti-ringrajasoit-90/
CATEGORIES:Moto
ATTACH;FMTTYPE=image/jpeg:http://racehelp.ee/wp-content/uploads/2023/08/EMV-2023.jpg
END:VEVENT
END:VCALENDAR