BEGIN:VCALENDAR
VERSION:2.0
PRODID:-//Racehelp - ECPv5.14.1//NONSGML v1.0//EN
CALSCALE:GREGORIAN
METHOD:PUBLISH
X-WR-CALNAME:Racehelp
X-ORIGINAL-URL:http://racehelp.ee
X-WR-CALDESC:Events for Racehelp
REFRESH-INTERVAL;VALUE=DURATION:PT1H
X-Robots-Tag:noindex
X-PUBLISHED-TTL:PT1H
BEGIN:VTIMEZONE
TZID:UTC
BEGIN:STANDARD
TZOFFSETFROM:+0000
TZOFFSETTO:+0000
TZNAME:UTC
DTSTART:20230101T000000
END:STANDARD
END:VTIMEZONE
BEGIN:VEVENT
DTSTART;TZID=UTC:20230520T080000
DTEND;TZID=UTC:20230521T200000
DTSTAMP:20260421T024329
CREATED:20230420T132445Z
LAST-MODIFIED:20230420T132445Z
UID:446-1684569600-1684699200@racehelp.ee
SUMMARY:Motoringraja Eesti ja Balti MV
DESCRIPTION:
URL:http://racehelp.ee/event/motoringraja-eesti-ja-balti-mv/
CATEGORIES:Moto
ATTACH;FMTTYPE=image/jpeg:http://racehelp.ee/wp-content/uploads/2023/04/304763354_608014104123273_5659892311654346781_n.jpg
END:VEVENT
END:VCALENDAR